0.0000089993
0.0000000000
0.0000000000
-0.0000089993
-77.8070104392
34.2281137508
