0.0000089993
0.0000000000
0.0000000000
-0.0000089993
-77.7906857451
34.2556785457
