0.0000089993
0.0000000000
0.0000000000
-0.0000089993
-77.7803725702
34.2640118790
