0.0000089993
0.0000000000
0.0000000000
-0.0000089993
-77.8932145428
34.0717512599
