0.0000089993
0.0000000000
0.0000000000
-0.0000089993
-77.8878329734
34.0891288696
