0.0000089993
0.0000000000
0.0000000000
-0.0000089993
-77.8830183585
34.0912976961
