0.0000089993
0.0000000000
0.0000000000
-0.0000089993
-77.8521148308
34.1370770338
