0.0000089993
0.0000000000
0.0000000000
-0.0000089993
-77.8522858171
34.1460853131
