0.0000089993
0.0000000000
0.0000000000
-0.0000089993
-77.8123560115
34.2122840173
