0.0000089993
0.0000000000
0.0000000000
-0.0000089993
-77.8105651548
34.1920356371
