0.0000089993
0.0000000000
0.0000000000
-0.0000089993
-77.8003329734
34.2103851691
