0.0000089993
0.0000000000
0.0000000000
-0.0000089993
-77.8008459323
34.2374100071
