0.0000089993
0.0000000000
0.0000000000
-0.0000089993
-77.7907757379
34.2466972642
