0.0000089993
0.0000000000
0.0000000000
-0.0000089993
-77.7855021598
34.2632109431
