0.0000089993
0.0000000000
0.0000000000
-0.0000089993
-77.7952753780
34.2435025198
