0.0000089993
0.0000000000
0.0000000000
-0.0000089993
-77.7762598992
34.2618880489
