0.0000089993
0.0000000000
0.0000000000
-0.0000089993
-77.7584323254
34.2563354931
