0.0000089993
0.0000000000
0.0000000000
-0.0000089993
-77.7549046076
34.2803905687
