0.0000089993
0.0000000000
0.0000000000
-0.0000089993
-77.7481731461
34.2746670266
