0.0000089993
0.0000000000
0.0000000000
-0.0000089993
-77.7373200144
34.2747750180
