0.0000089993
0.0000000000
0.0000000000
-0.0000089993
-77.7376079914
34.2839182865
