0.0000089993
0.0000000000
0.0000000000
-0.0000089993
-77.7267548596
34.2841072714
