0.0000089993
0.0000000000
0.0000000000
-0.0000089993
-77.7161987041
34.2934125269
