0.0000089993
0.0000000000
0.0000000000
-0.0000089993
-77.7164866811
34.3024208063
