0.0000089993
0.0000000000
0.0000000000
-0.0000089993
-77.7166576674
34.3114290856
