0.0000089993
0.0000000000
0.0000000000
-0.0000089993
-77.7053455724
34.2934395248
