0.0000089993
0.0000000000
0.0000000000
-0.0000089993
-77.7056335493
34.3025557955
