0.0000089993
0.0000000000
0.0000000000
-0.0000089993
-77.6953563715
34.3208783297
