0.0000089993
0.0000000000
0.0000000000
-0.0000089993
-77.6591252700
34.3627069834
