0.0000089993
0.0000000000
0.0000000000
-0.0000089993
-77.6318934485
34.3763768898
