0.0000089993
0.0000000000
0.0000000000
-0.0000089993
-77.6064344852
34.4086933045
