0.0000089993
0.0000000000
0.0000000000
-0.0000089993
-77.5896958243
34.4223452123
