0.0000089993
0.0000000000
0.0000000000
-0.0000089993
-77.5680615551
34.4220302375
