0.0000089993
0.0000000000
0.0000000000
-0.0000089993
-77.5892638589
34.4043286537
