0.0000089993
0.0000000000
0.0000000000
-0.0000089993
-77.5678005760
34.4137508999
