0.0000089993
0.0000000000
0.0000000000
-0.0000089993
-77.5513138949
34.4340352772
