0.0000089993
0.0000000000
0.0000000000
-0.0000089993
-77.5357361411
34.4324064075
