0.0000089993
0.0000000000
0.0000000000
-0.0000089993
-77.4968142549
34.4619240461
