0.0000089993
0.0000000000
0.0000000000
-0.0000089993
-77.4716432685
34.4780417566
