0.0000089993
0.0000000000
0.0000000000
-0.0000089993
-77.4590892729
34.4838462923
