0.0000089993
0.0000000000
0.0000000000
-0.0000089993
-77.4501979842
34.4883189344
