0.0000089993
0.0000000000
0.0000000000
-0.0000089993
-77.4394708423
34.4949244060
