0.0000089993
0.0000000000
0.0000000000
-0.0000089993
-77.4072084233
34.5071994240
