0.0000089993
0.0000000000
0.0000000000
-0.0000089993
-77.3749010079
34.5168286537
