0.0000089993
0.0000000000
0.0000000000
-0.0000089993
-77.3685295176
34.5281677466
