0.0000089993
0.0000000000
0.0000000000
-0.0000089993
-77.3534017279
34.5262688985
