0.0000089993
0.0000000000
0.0000000000
-0.0000089993
-77.3318754500
34.5356281497
