0.0000089993
0.0000000000
0.0000000000
-0.0000089993
-77.3606191505
34.5350701943
