0.0000089993
0.0000000000
0.0000000000
-0.0000089993
-77.3427645788
34.5355021598
