0.0000089993
0.0000000000
0.0000000000
-0.0000089993
-77.3107991361
34.5631479481
